BEGIN:VCALENDAR
VERSION:2.0
PRODID:-//She Inspires Group - ECPv6.15.20//NONSGML v1.0//EN
CALSCALE:GREGORIAN
METHOD:PUBLISH
X-ORIGINAL-URL:https://www.sheinspires.org.uk
X-WR-CALDESC:Events for She Inspires Group
REFRESH-INTERVAL;VALUE=DURATION:PT1H
X-Robots-Tag:noindex
X-PUBLISHED-TTL:PT1H
BEGIN:VTIMEZONE
TZID:Europe/London
BEGIN:DAYLIGHT
TZOFFSETFROM:+0000
TZOFFSETTO:+0100
TZNAME:BST
DTSTART:20240331T010000
END:DAYLIGHT
BEGIN:STANDARD
TZOFFSETFROM:+0100
TZOFFSETTO:+0000
TZNAME:GMT
DTSTART:20241027T010000
END:STANDARD
BEGIN:DAYLIGHT
TZOFFSETFROM:+0000
TZOFFSETTO:+0100
TZNAME:BST
DTSTART:20250330T010000
END:DAYLIGHT
BEGIN:STANDARD
TZOFFSETFROM:+0100
TZOFFSETTO:+0000
TZNAME:GMT
DTSTART:20251026T010000
END:STANDARD
BEGIN:DAYLIGHT
TZOFFSETFROM:+0000
TZOFFSETTO:+0100
TZNAME:BST
DTSTART:20260329T010000
END:DAYLIGHT
BEGIN:STANDARD
TZOFFSETFROM:+0100
TZOFFSETTO:+0000
TZNAME:GMT
DTSTART:20261025T010000
END:STANDARD
END:VTIMEZONE
BEGIN:VEVENT
DTSTART;TZID=Europe/London:20250205T113000
DTEND;TZID=Europe/London:20250205T123000
DTSTAMP:20260425T163952
CREATED:20250107T152835Z
LAST-MODIFIED:20250107T152835Z
UID:8532-1738755000-1738758600@www.sheinspires.org.uk
SUMMARY:Taste of Bolton Virtual Kitchen – Middle Eastern Delights
DESCRIPTION:Middle Eastern Delights\nExperience the exotic charm of the Middle East with golden Falafel\, creamy Hummus\, and tangy Lebanese-style pickles. A culinary journey of bold flavors and vibrant textures.
URL:https://www.sheinspires.org.uk/event/taste-of-bolton-virtual-kitchen-middle-eastern-delights/
LOCATION:Virtual
CATEGORIES:Taste of Bolton,Women In Neighbourhoods
ATTACH;FMTTYPE=image/jpeg:https://www.sheinspires.org.uk/wp-content/uploads/2025/01/471313295_976831467810084_4077376239005820565_n.jpg
END:VEVENT
BEGIN:VEVENT
DTSTART;TZID=Europe/London:20250212T113000
DTEND;TZID=Europe/London:20250212T123000
DTSTAMP:20260425T163952
CREATED:20250107T153112Z
LAST-MODIFIED:20250107T153112Z
UID:8535-1739359800-1739363400@www.sheinspires.org.uk
SUMMARY:Taste of Bolton Virtual Kitchen – Everything Eggs
DESCRIPTION:Everything Eggs\nCelebrate the versatility of eggs with hearty breakfast recipes like Shakshuka\, fluffy Frittatas\, and the whimsical Eggs on a Bread Nest. Perfect for egg lovers craving creativity.
URL:https://www.sheinspires.org.uk/event/taste-of-bolton-virtual-kitchen-everything-eggs/
LOCATION:Virtual
CATEGORIES:Taste of Bolton,Women In Neighbourhoods
ATTACH;FMTTYPE=image/jpeg:https://www.sheinspires.org.uk/wp-content/uploads/2025/01/470603576_976833481143216_8346760705279079045_n.jpg
END:VEVENT
BEGIN:VEVENT
DTSTART;TZID=Europe/London:20250219T113000
DTEND;TZID=Europe/London:20250219T123000
DTSTAMP:20260425T163952
CREATED:20250107T153256Z
LAST-MODIFIED:20250107T153256Z
UID:8538-1739964600-1739968200@www.sheinspires.org.uk
SUMMARY:Taste of Bolton Virtual Kitchen – Mumbai Street Food
DESCRIPTION:Mumbai Street Food\nRecreate the bustling streets of Mumbai with crispy Kanda Bhajji\, spicy Vada Pav\, and zesty Garlic Chutney. A snack-filled adventure full of bold\, street-side nostalgia.
URL:https://www.sheinspires.org.uk/event/taste-of-bolton-virtual-kitchen-mumbai-street-food/
LOCATION:Virtual
CATEGORIES:Taste of Bolton,Women In Neighbourhoods
ATTACH;FMTTYPE=image/jpeg:https://www.sheinspires.org.uk/wp-content/uploads/2025/01/470666456_976835771142987_5274388115937785411_n.jpg
END:VEVENT
BEGIN:VEVENT
DTSTART;TZID=Europe/London:20250226T113000
DTEND;TZID=Europe/London:20250226T123000
DTSTAMP:20260425T163952
CREATED:20250107T153438Z
LAST-MODIFIED:20250107T153438Z
UID:8541-1740569400-1740573000@www.sheinspires.org.uk
SUMMARY:Taste of Bolton Virtual Kitchen – Everything Rice
DESCRIPTION:Master the art of one-pot wonders with fragrant Mushroom Pulav\, wholesome Chana Dal Pulao\, and a tangy Burrani Raita. A rice lover’s dream come true!
URL:https://www.sheinspires.org.uk/event/taste-of-bolton-virtual-kitchen-everything-rice/
LOCATION:Virtual
CATEGORIES:Taste of Bolton,Women In Neighbourhoods
ATTACH;FMTTYPE=image/jpeg:https://www.sheinspires.org.uk/wp-content/uploads/2025/01/470674862_976837154476182_7119481293717450142_n.jpg
END:VEVENT
END:VCALENDAR