BEGIN:VCALENDAR
VERSION:2.0
PRODID:-//She Inspires Group - ECPv6.15.20//NONSGML v1.0//EN
CALSCALE:GREGORIAN
METHOD:PUBLISH
X-WR-CALNAME:She Inspires Group
X-ORIGINAL-URL:https://www.sheinspires.org.uk
X-WR-CALDESC:Events for She Inspires Group
REFRESH-INTERVAL;VALUE=DURATION:PT1H
X-Robots-Tag:noindex
X-PUBLISHED-TTL:PT1H
BEGIN:VTIMEZONE
TZID:Europe/London
BEGIN:DAYLIGHT
TZOFFSETFROM:+0000
TZOFFSETTO:+0100
TZNAME:BST
DTSTART:20240331T010000
END:DAYLIGHT
BEGIN:STANDARD
TZOFFSETFROM:+0100
TZOFFSETTO:+0000
TZNAME:GMT
DTSTART:20241027T010000
END:STANDARD
BEGIN:DAYLIGHT
TZOFFSETFROM:+0000
TZOFFSETTO:+0100
TZNAME:BST
DTSTART:20250330T010000
END:DAYLIGHT
BEGIN:STANDARD
TZOFFSETFROM:+0100
TZOFFSETTO:+0000
TZNAME:GMT
DTSTART:20251026T010000
END:STANDARD
BEGIN:DAYLIGHT
TZOFFSETFROM:+0000
TZOFFSETTO:+0100
TZNAME:BST
DTSTART:20260329T010000
END:DAYLIGHT
BEGIN:STANDARD
TZOFFSETFROM:+0100
TZOFFSETTO:+0000
TZNAME:GMT
DTSTART:20261025T010000
END:STANDARD
END:VTIMEZONE
BEGIN:VEVENT
DTSTART;TZID=Europe/London:20250305T113000
DTEND;TZID=Europe/London:20250305T123000
DTSTAMP:20260425T113724
CREATED:20250107T153602Z
LAST-MODIFIED:20250107T153602Z
UID:8544-1741174200-1741177800@www.sheinspires.org.uk
SUMMARY:Taste of Bolton Virtual Kitchen – Easy Peasy Desserts
DESCRIPTION:Easy Peasy Desserts\nIndulge your sweet tooth effortlessly with creamy Paneer Kheer\, soft Coconut Laddoos\, and vibrant Fresh Fruit Parfait. Desserts made simple yet delightful!
URL:https://www.sheinspires.org.uk/event/taste-of-bolton-virtual-kitchen-easy-peasy-desserts/
LOCATION:Virtual
CATEGORIES:Taste of Bolton,Women In Neighbourhoods
ATTACH;FMTTYPE=image/jpeg:https://www.sheinspires.org.uk/wp-content/uploads/2025/01/470662928_976838954476002_2871152625561975611_n.jpg
END:VEVENT
END:VCALENDAR