BEGIN:VCALENDAR
VERSION:2.0
PRODID:-//She Inspires Group - ECPv6.15.20//NONSGML v1.0//EN
CALSCALE:GREGORIAN
METHOD:PUBLISH
X-ORIGINAL-URL:https://www.sheinspires.org.uk
X-WR-CALDESC:Events for She Inspires Group
REFRESH-INTERVAL;VALUE=DURATION:PT1H
X-Robots-Tag:noindex
X-PUBLISHED-TTL:PT1H
BEGIN:VTIMEZONE
TZID:Europe/London
BEGIN:DAYLIGHT
TZOFFSETFROM:+0000
TZOFFSETTO:+0100
TZNAME:BST
DTSTART:20240331T010000
END:DAYLIGHT
BEGIN:STANDARD
TZOFFSETFROM:+0100
TZOFFSETTO:+0000
TZNAME:GMT
DTSTART:20241027T010000
END:STANDARD
BEGIN:DAYLIGHT
TZOFFSETFROM:+0000
TZOFFSETTO:+0100
TZNAME:BST
DTSTART:20250330T010000
END:DAYLIGHT
BEGIN:STANDARD
TZOFFSETFROM:+0100
TZOFFSETTO:+0000
TZNAME:GMT
DTSTART:20251026T010000
END:STANDARD
BEGIN:DAYLIGHT
TZOFFSETFROM:+0000
TZOFFSETTO:+0100
TZNAME:BST
DTSTART:20260329T010000
END:DAYLIGHT
BEGIN:STANDARD
TZOFFSETFROM:+0100
TZOFFSETTO:+0000
TZNAME:GMT
DTSTART:20261025T010000
END:STANDARD
END:VTIMEZONE
BEGIN:VEVENT
DTSTART;TZID=Europe/London:20250226T113000
DTEND;TZID=Europe/London:20250226T123000
DTSTAMP:20260425T164228
CREATED:20250107T153438Z
LAST-MODIFIED:20250107T153438Z
UID:8541-1740569400-1740573000@www.sheinspires.org.uk
SUMMARY:Taste of Bolton Virtual Kitchen – Everything Rice
DESCRIPTION:Master the art of one-pot wonders with fragrant Mushroom Pulav\, wholesome Chana Dal Pulao\, and a tangy Burrani Raita. A rice lover’s dream come true!
URL:https://www.sheinspires.org.uk/event/taste-of-bolton-virtual-kitchen-everything-rice/
LOCATION:Virtual
CATEGORIES:Taste of Bolton,Women In Neighbourhoods
ATTACH;FMTTYPE=image/jpeg:https://www.sheinspires.org.uk/wp-content/uploads/2025/01/470674862_976837154476182_7119481293717450142_n.jpg
END:VEVENT
END:VCALENDAR